BEGIN:VCALENDAR
VERSION:2.0
PRODID:-//Autograf//Djoin//NO
METHOD:PUBLISH
BEGIN:VTIMEZONE
TZID:Europe/Oslo
BEGIN:DAYLIGHT
TZOFFSETFROM:+0100
RRULE:FREQ=YEARLY;BYMONTH=3;BYDAY=-1SU
DTSTART:19810329T020000
TZNAME:CEST
TZOFFSETTO:+0200
END:DAYLIGHT
BEGIN:STANDARD
TZOFFSETFROM:+0200
RRULE:FREQ=YEARLY;BYMONTH=10;BYDAY=-1SU
DTSTART:19961027T030000
TZNAME:CET
TZOFFSETTO:+0100
END:STANDARD
END:VTIMEZONE
BEGIN:VEVENT
UID:2f5acba890544a505751b32ac53ca496
DTSTAMP:20260425T181621Z
DTSTART;TZID=Europe/Oslo:20230606T153000Z
DTEND;TZID=Europe/Oslo:20230606T164500Z
URL:https://www.mastraspeiderne.no/aktivitet/2434
SUMMARY:Bevermøte. Tur til prestvågen
LOCATION:Parkeringen bak kulturhuset i Vikevåg
END:VEVENT
END:VCALENDAR